BEGIN:VCALENDAR
VERSION:2.0
PRODID:-//104.152.168.27//NONSGML kigkonsult.se iCalcreator 2.20//
CALSCALE:GREGORIAN
METHOD:PUBLISH
X-WR-TIMEZONE:Asia/Tokyo
BEGIN:VEVENT
UID:event39801@Tokyo Gig Guide
DTSTAMP:20260422T115621Z
CATEGORIES:Blues
DESCRIPTION:Otomo Yoshihide Solo\nカテゴリ: Blues\nリンク: https://www.tokyogiggui
 de.com/index.php?option=com_jem&view=event&id=39801:otomo-yoshihide-solo\n
DTSTART:20260311T190000
DTEND:20260311T190000
LOCATION:POLARIS\,6-2-10 Minami-Aoyama\, Minato-ku\, Tokyo\,Minami-Aoyama
SUMMARY:Otomo Yoshihide Solo
URL:https://www.tokyogigguide.com/index.php?option=com_jem&view=event&id=39
 801:otomo-yoshihide-solo
END:VEVENT
END:VCALENDAR
