BEGIN:VCALENDAR
VERSION:2.0
PRODID:-//104.152.168.27//NONSGML kigkonsult.se iCalcreator 2.20//
CALSCALE:GREGORIAN
METHOD:PUBLISH
X-WR-TIMEZONE:Asia/Tokyo
BEGIN:VEVENT
UID:event40715@Tokyo Gig Guide
DTSTAMP:20260420T165931Z
CATEGORIES:Experimental\, Free Jazz\, Improvised\, Instrumental\, Jazz
DESCRIPTION:Nobuo Fujii（dr）Satoe Kobayashi（sax）Daisuke Koyama（g）Yoshinori S
 himizu（b）\nCategory: Experimental\, Free Jazz\, Improvised\, Instrumental\
 , Jazz\nLink: https://www.tokyogigguide.com/index.php?option=com_jem&view=
 event&id=40715:nobuo-fujii-dr-satoe-kobayashi-sax-daisuke-koyama-g-yoshino
 ri-shimizu-b&Itemid=1094\n
DTSTART:20260424T190000
DTEND:20260424T190000
LOCATION:Giee\,Sanko Bldg. Ba\, 2-3-9 Honmachi\, Kokubunji\, Tokyo\,Kokubun
 ji
SUMMARY:Nobuo Fujii（dr）Satoe Kobayashi（sax）Daisuke Koyama（g）Yoshinori Shimi
 zu（b）
URL:https://www.tokyogigguide.com/index.php?option=com_jem&view=event&id=40
 715:nobuo-fujii-dr-satoe-kobayashi-sax-daisuke-koyama-g-yoshinori-shimizu-
 b&Itemid=1094
END:VEVENT
END:VCALENDAR
