BEGIN:VCALENDAR
VERSION:2.0
PRODID:-//104.152.168.27//NONSGML kigkonsult.se iCalcreator 2.20//
CALSCALE:GREGORIAN
METHOD:PUBLISH
X-WR-TIMEZONE:Asia/Tokyo
BEGIN:VEVENT
UID:event40738@Tokyo Gig Guide
DTSTAMP:20260425T195322Z
CATEGORIES:Folk\, Guitar Pop\, Psychedelic\, Psych-Folk
DESCRIPTION:Kasagami from Hiroshima\, Akiko Toshimitsu + Mitsuru Tabata\nCa
 tegory: Folk\, Guitar Pop\, Psychedelic\, Psych-Folk\nLink: https://www.to
 kyogigguide.com/index.php?option=com_jem&view=event&id=40738:kasagami-from
 -hiroshima-akiko-toshimitsu-mitsuru-tabata&Itemid=1094\n
DTSTART:20260425T190000
DTEND:20260425T190000
LOCATION:harness\,2-18-9-B1\, Asagayaminami\, Suginami\, Tokyo\,Asagaya
SUMMARY:Kasagami from Hiroshima\, Akiko Toshimitsu + Mitsuru Tabata
URL:https://www.tokyogigguide.com/index.php?option=com_jem&view=event&id=40
 738:kasagami-from-hiroshima-akiko-toshimitsu-mitsuru-tabata&Itemid=1094
END:VEVENT
END:VCALENDAR
