BEGIN:VCALENDAR
VERSION:2.0
PRODID:-//104.152.168.27//NONSGML kigkonsult.se iCalcreator 2.20//
CALSCALE:GREGORIAN
METHOD:PUBLISH
X-WR-TIMEZONE:Asia/Tokyo
BEGIN:VEVENT
UID:event40460@Tokyo Gig Guide
DTSTAMP:20260420T174828Z
CATEGORIES:Unclassifiable
DESCRIPTION:MICHIYO YAGI TALON: Future Koto Music\nCategory: Unclassifiable
 \nLink: https://www.tokyogigguide.com/index.php?option=com_jem&view=event&
 id=40460:michiyo-yagi-talon-future-koto-music&Itemid=1094\n
DTSTART:20260503T180000
DTEND:20260503T180000
LOCATION:Time Out Cafe & Diner\,Liquidroom 2F\, 3-16-6 Higashi\, Shibuya-ku
 \, Tokyo\,Ebisu
SUMMARY:MICHIYO YAGI TALON: Future Koto Music
URL:https://www.tokyogigguide.com/index.php?option=com_jem&view=event&id=40
 460:michiyo-yagi-talon-future-koto-music&Itemid=1094
END:VEVENT
END:VCALENDAR
