BEGIN:VCALENDAR
VERSION:2.0
PRODID:-//104.152.168.27//NONSGML kigkonsult.se iCalcreator 2.20//
CALSCALE:GREGORIAN
METHOD:PUBLISH
X-WR-TIMEZONE:Asia/Tokyo
BEGIN:VEVENT
UID:event40367@Tokyo Gig Guide
DTSTAMP:20260424T025714Z
CATEGORIES:Alternative\, Electronic Rock\, Industrial\, Post-Punk\, World
DESCRIPTION:ラパンナジール (LAPIN AGILE)\, Loco-Apes\, Paris death Hilton\, W.A.R.
 P.\nCategory: Alternative\, Electronic Rock\, Industrial\, Post-Punk\, Wor
 ld\nLink: https://www.tokyogigguide.com/index.php?option=com_jem&view=even
 t&id=40367:lapin-agile-loco-apesl-paris-death-hilton-w-a-r-p&Itemid=1094\n
DTSTART:20260512T180000
DTEND:20260512T180000
LOCATION:Chop (Shutou)\,Sheema100 B1\, 2-46-3 Ikebukuro\,Ikebukuro
SUMMARY:ラパンナジール (LAPIN AGILE)\, Loco-Apes\, Paris death Hilton\, W.A.R.P.
URL:https://www.tokyogigguide.com/index.php?option=com_jem&view=event&id=40
 367:lapin-agile-loco-apesl-paris-death-hilton-w-a-r-p&Itemid=1094
END:VEVENT
END:VCALENDAR
