BEGIN:VCALENDAR
VERSION:2.0
PRODID:-//104.152.168.27//NONSGML kigkonsult.se iCalcreator 2.20//
CALSCALE:GREGORIAN
METHOD:PUBLISH
X-WR-TIMEZONE:Asia/Tokyo
BEGIN:VEVENT
UID:event40583@Tokyo Gig Guide
DTSTAMP:20260419T175321Z
CATEGORIES:Acoustic\, Experimental\, Folk\, Free Jazz\, Improvised
DESCRIPTION:Yoshiko Honda + Kawol SamarQandi duo improv\nCategory: Acoustic
 \, Experimental\, Folk\, Free Jazz\, Improvised\nLink: https://www.tokyogi
 gguide.com/index.php?option=com_jem&view=event&id=40583:voice-strings-and-
 yoshiko-honda-kawol-samarqandi-duo-improv-yokohama-airegin&Itemid=1094\n
DTSTART:20260419T183000
DTEND:20260419T183000
LOCATION:Airegin\,5-60 Sumiyoshi-cho\, Naka-ku\, Yokohama\, Kanagawa\,Yokoh
 ama
SUMMARY:Yoshiko Honda + Kawol SamarQandi duo improv
URL:https://www.tokyogigguide.com/index.php?option=com_jem&view=event&id=40
 583:voice-strings-and-yoshiko-honda-kawol-samarqandi-duo-improv-yokohama-a
 iregin&Itemid=1094
END:VEVENT
BEGIN:VEVENT
UID:event40586@Tokyo Gig Guide
DTSTAMP:20260419T175321Z
CATEGORIES:Abstract\, Experimental\, Festival\, Free Jazz\, Improvised
DESCRIPTION:Keisuke Ohta + Kawol SamarQandi duo improv\nCategory: Abstract\
 , Experimental\, Festival\, Free Jazz\, Improvised\nLink: https://www.toky
 ogigguide.com/index.php?option=com_jem&view=event&id=40586:resonance-of-so
 uls-keisuke-ohta-kawol-samarqandi-duo-improv-yokohama-airegin-internationa
 l-music-festival-2026&Itemid=1094\n
DTSTART:20260502T183000
DTEND:20260502T183000
LOCATION:Airegin\,5-60 Sumiyoshi-cho\, Naka-ku\, Yokohama\, Kanagawa\,Yokoh
 ama
SUMMARY:Keisuke Ohta + Kawol SamarQandi duo improv
URL:https://www.tokyogigguide.com/index.php?option=com_jem&view=event&id=40
 586:resonance-of-souls-keisuke-ohta-kawol-samarqandi-duo-improv-yokohama-a
 iregin-international-music-festival-2026&Itemid=1094
END:VEVENT
BEGIN:VEVENT
UID:event40601@Tokyo Gig Guide
DTSTAMP:20260419T175321Z
CATEGORIES:Abstract\, Experimental\, Folk\, Free Jazz\, Improvised
DESCRIPTION:Kawol SamarQandi solo improv\nCategory: Abstract\, Experimental
 \, Folk\, Free Jazz\, Improvised\nLink: https://www.tokyogigguide.com/inde
 x.php?option=com_jem&view=event&id=40601:kawol-samarqandi-solo-improv-at-y
 okohama-airegin-episode-57-toward-a-more-concise-melody&Itemid=1094\n
DTSTART:20260619T183000
DTEND:20260619T183000
LOCATION:Airegin\,5-60 Sumiyoshi-cho\, Naka-ku\, Yokohama\, Kanagawa\,Yokoh
 ama
SUMMARY:Kawol SamarQandi solo improv
URL:https://www.tokyogigguide.com/index.php?option=com_jem&view=event&id=40
 601:kawol-samarqandi-solo-improv-at-yokohama-airegin-episode-57-toward-a-m
 ore-concise-melody&Itemid=1094
END:VEVENT
END:VCALENDAR
