BEGIN:VCALENDAR
VERSION:2.0
PRODID:-//104.152.168.27//NONSGML kigkonsult.se iCalcreator 2.20//
CALSCALE:GREGORIAN
METHOD:PUBLISH
X-WR-TIMEZONE:Asia/Tokyo
BEGIN:VEVENT
UID:event40660@Tokyo Gig Guide
DTSTAMP:20260421T062349Z
CATEGORIES:Alternative\, Art\, Folk\, Punk\, Rock n Roll
DESCRIPTION:Ataru matsumoto (hasirikomis) / Genichiro Toda (todagen)\nCateg
 ory: Alternative\, Art\, Folk\, Punk\, Rock n Roll\nLink: https://www.toky
 ogigguide.com/index.php?option=com_jem&view=event&id=40660:ataru-matsumoto
 -hasirikomis-genichiro-toda-todagen&Itemid=1094\n
DTSTART:20260430T190000
DTEND:20260430T190000
LOCATION:Air Garage\,Kichijoji\,Japan
SUMMARY:Ataru matsumoto (hasirikomis) / Genichiro Toda (todagen)
URL:https://www.tokyogigguide.com/index.php?option=com_jem&view=event&id=40
 660:ataru-matsumoto-hasirikomis-genichiro-toda-todagen&Itemid=1094
END:VEVENT
END:VCALENDAR
