BEGIN:VCALENDAR
VERSION:2.0
PRODID:-//104.152.168.27//NONSGML kigkonsult.se iCalcreator 2.20//
CALSCALE:GREGORIAN
METHOD:PUBLISH
X-WR-TIMEZONE:Asia/Tokyo
BEGIN:VEVENT
UID:event40554@Tokyo Gig Guide
DTSTAMP:20260425T111539Z
CATEGORIES:Blues
DESCRIPTION:Tokyo Blues Devils\nCategory: Blues\nLink: https://www.tokyogig
 guide.com/index.php?option=com_jem&view=event&id=40554:tokyo-blues-devils&
 Itemid=1094\n
DTSTART:20260424T183000
DTEND:20260424T183000
LOCATION:The Shojimaru\,Yoshikawa Bldg. B1 1-4-6 Kandasudacho\,Kanda
SUMMARY:Tokyo Blues Devils
URL:https://www.tokyogigguide.com/index.php?option=com_jem&view=event&id=40
 554:tokyo-blues-devils&Itemid=1094
END:VEVENT
END:VCALENDAR
