BEGIN:VCALENDAR
VERSION:2.0
PRODID:-//104.152.168.27//NONSGML kigkonsult.se iCalcreator 2.20//
CALSCALE:GREGORIAN
METHOD:PUBLISH
X-WR-TIMEZONE:Asia/Tokyo
BEGIN:VEVENT
UID:event40521@Tokyo Gig Guide
DTSTAMP:20260420T230230Z
CATEGORIES:Acoustic\, Instrumental\, Latin
DESCRIPTION:Natsuki Kido Quinteto (Natsuki Kido\, Sou Kitamura\, Kumiko Kon
 do\, Hiroshi Kumada\, Toru Nishijima)\nCategory: Acoustic\, Instrumental\,
  Latin\nLink: https://www.tokyogigguide.com/index.php?option=com_jem&view=
 event&id=40521:natsuki-kido-quinteto-natsuki-kido-sou-kitamura-kumiko-kond
 o-hiroshi-kumada-toru-nishijima&Itemid=1094\n
DTSTART:20260426T143000
DTEND:20260426T143000
LOCATION:plus eleven\,1-2-15\, Nakacho\, Ageo-shi\, Saitama\,Ageo
SUMMARY:Natsuki Kido Quinteto (Natsuki Kido\, Sou Kitamura\, Kumiko Kondo\,
  Hiroshi Kumada\, Toru Nishijima)
URL:https://www.tokyogigguide.com/index.php?option=com_jem&view=event&id=40
 521:natsuki-kido-quinteto-natsuki-kido-sou-kitamura-kumiko-kondo-hiroshi-k
 umada-toru-nishijima&Itemid=1094
END:VEVENT
END:VCALENDAR
