BEGIN:VCALENDAR
VERSION:2.0
PRODID:-//104.152.168.27//NONSGML kigkonsult.se iCalcreator 2.20//
CALSCALE:GREGORIAN
METHOD:PUBLISH
X-WR-TIMEZONE:Asia/Tokyo
BEGIN:VEVENT
UID:event9943@Tokyo Gig Guide
DTSTAMP:20260424T013933Z
CATEGORIES:Blues
DESCRIPTION:Tad Miura\, OK & CK\, Erimo Mori\nCategory: Blues\nLink: https:
 //www.tokyogigguide.com/index.php?option=com_jem&view=event&id=9943:saturd
 ay-night-blues-live-triple-bill&Itemid=1094\n
DTSTART:20140315T190000
DTEND:20140315T190000
LOCATION:Giee\,Sanko Bldg. Ba\, 2-3-9 Honmachi\, Kokubunji\, Tokyo\,Kokubun
 ji
SUMMARY:Tad Miura\, OK & CK\, Erimo Mori
URL:https://www.tokyogigguide.com/index.php?option=com_jem&view=event&id=99
 43:saturday-night-blues-live-triple-bill&Itemid=1094
END:VEVENT
END:VCALENDAR
