BEGIN:VCALENDAR
VERSION:2.0
PRODID:-//104.152.168.27//NONSGML kigkonsult.se iCalcreator 2.20//
CALSCALE:GREGORIAN
METHOD:PUBLISH
X-WR-TIMEZONE:Asia/Tokyo
BEGIN:VEVENT
UID:event9334@Tokyo Gig Guide
DTSTAMP:20260419T130713Z
CATEGORIES:Garage Rock
DESCRIPTION:ED WOODS\, LOS CHAMPIONS\, THE FADEAWAYS\, CocoFlame\nCategory:
  Garage Rock\nLink: https://www.tokyogigguide.com/index.php?option=com_jem
 &view=event&id=9334:ed-woods-los-champions-theee-bat-the-fadeaways-cocofla
 me&Itemid=1094\n
DTSTART:20131201T183000
DTEND:20131201T183000
LOCATION:Heavy Sick\,Nishihara 2-27-4 B1\, Shibuya-ku\,Hatagaya
SUMMARY:ED WOODS\, LOS CHAMPIONS\, THE FADEAWAYS\, CocoFlame
URL:https://www.tokyogigguide.com/index.php?option=com_jem&view=event&id=93
 34:ed-woods-los-champions-theee-bat-the-fadeaways-cocoflame&Itemid=1094
END:VEVENT
END:VCALENDAR
