BEGIN:VCALENDAR
VERSION:2.0
PRODID:-//104.152.168.27//NONSGML kigkonsult.se iCalcreator 2.20//
CALSCALE:GREGORIAN
METHOD:PUBLISH
X-WR-TIMEZONE:Asia/Tokyo
BEGIN:VEVENT
UID:event9287@Tokyo Gig Guide
DTSTAMP:20260419T161035Z
CATEGORIES:Improvised
DESCRIPTION:Yoshimoto/Terauchi/Mitsui/Fernandes\nCategory: Improvised\nLink
 : https://www.tokyogigguide.com/index.php?option=com_jem&view=event&id=928
 7:yoshimototerauchimitsuifernandes&Itemid=1094\n
DTSTART:20131106T190000
DTEND:20131106T190000
LOCATION:Airegin\,5-60 Sumiyoshi-cho\, Naka-ku\, Yokohama\, Kanagawa\,Yokoh
 ama
SUMMARY:Yoshimoto/Terauchi/Mitsui/Fernandes
URL:https://www.tokyogigguide.com/index.php?option=com_jem&view=event&id=92
 87:yoshimototerauchimitsuifernandes&Itemid=1094
END:VEVENT
END:VCALENDAR
