BEGIN:VCALENDAR
VERSION:2.0
PRODID:-//104.152.168.27//NONSGML kigkonsult.se iCalcreator 2.20//
CALSCALE:GREGORIAN
METHOD:PUBLISH
X-WR-TIMEZONE:Asia/Tokyo
BEGIN:VEVENT
UID:event9234@Tokyo Gig Guide
DTSTAMP:20260420T100113Z
CATEGORIES:Garage Rock
DESCRIPTION:Lord Rochester (UK)\, The geno\, THE MINNESOTA VOODOOMEN\, STOM
 PIN' RIFFRAFFS\, more\nCategory: Garage Rock\nLink: https://www.tokyogiggu
 ide.com/index.php?option=com_jem&view=event&id=9234:httpwwwheavysickcojpcl
 ub&Itemid=1094\n
DTSTART:20131020T180000
DTEND:20131020T180000
LOCATION:Heavy Sick\,Nishihara 2-27-4 B1\, Shibuya-ku\,Hatagaya
SUMMARY:Lord Rochester (UK)\, The geno\, THE MINNESOTA VOODOOMEN\, STOMPIN'
  RIFFRAFFS\, more
URL:https://www.tokyogigguide.com/index.php?option=com_jem&view=event&id=92
 34:httpwwwheavysickcojpclub&Itemid=1094
END:VEVENT
END:VCALENDAR
