BEGIN:VCALENDAR
VERSION:2.0
PRODID:-//104.152.168.27//NONSGML kigkonsult.se iCalcreator 2.20//
CALSCALE:GREGORIAN
METHOD:PUBLISH
X-WR-TIMEZONE:Asia/Tokyo
BEGIN:VEVENT
UID:event9164@Tokyo Gig Guide
DTSTAMP:20260421T075043Z
CATEGORIES:Improvised
DESCRIPTION:YOSHIMOTO Yumiko\, TERUUCHI Hisaharu\, MITSUI Yoshiko\, Marcos 
 Fernandes\nCategory: Improvised\nLink: https://www.tokyogigguide.com/index
 .php?option=com_jem&view=event&id=9164:yoshimoto-yumiko-teruuchi-hisaharu-
 mitsui-yoshiko-marcos-fernandes&Itemid=1094\n
DTSTART:20131106T190000
DTEND:20131106T190000
LOCATION:Airegin\,5-60 Sumiyoshi-cho\, Naka-ku\, Yokohama\, Kanagawa\,Yokoh
 ama
SUMMARY:YOSHIMOTO Yumiko\, TERUUCHI Hisaharu\, MITSUI Yoshiko\, Marcos Fern
 andes
URL:https://www.tokyogigguide.com/index.php?option=com_jem&view=event&id=91
 64:yoshimoto-yumiko-teruuchi-hisaharu-mitsui-yoshiko-marcos-fernandes&Item
 id=1094
END:VEVENT
END:VCALENDAR
