BEGIN:VCALENDAR
VERSION:2.0
PRODID:-//104.152.168.27//NONSGML kigkonsult.se iCalcreator 2.20//
CALSCALE:GREGORIAN
METHOD:PUBLISH
X-WR-TIMEZONE:Asia/Tokyo
BEGIN:VEVENT
UID:event9141@Tokyo Gig Guide
DTSTAMP:20260420T044654Z
CATEGORIES:Improvised
DESCRIPTION:Tristan Honsinger\, Ino Nobuyoshi\, Imai Kazuo\, Chino Shuichi
 \nCategory: Improvised\nLink: https://www.tokyogigguide.com/index.php?opti
 on=com_jem&view=event&id=9141:tristan-honsinger-japan-tour-2013&Itemid=109
 4\n
DTSTART;VALUE=DATE:20131012
DTEND;VALUE=DATE:20131013
LOCATION:Airegin\,5-60 Sumiyoshi-cho\, Naka-ku\, Yokohama\, Kanagawa\,Yokoh
 ama
SUMMARY:Tristan Honsinger\, Ino Nobuyoshi\, Imai Kazuo\, Chino Shuichi
URL:https://www.tokyogigguide.com/index.php?option=com_jem&view=event&id=91
 41:tristan-honsinger-japan-tour-2013&Itemid=1094
END:VEVENT
END:VCALENDAR
