BEGIN:VCALENDAR
VERSION:2.0
PRODID:-//104.152.168.27//NONSGML kigkonsult.se iCalcreator 2.20//
CALSCALE:GREGORIAN
METHOD:PUBLISH
X-WR-TIMEZONE:Asia/Tokyo
BEGIN:VEVENT
UID:event8659@Tokyo Gig Guide
DTSTAMP:20260419T193551Z
CATEGORIES:Punk
DESCRIPTION:THE LEGS\, ROCK-A-CHERRY\nCategory: Punk\nLink: https://www.tok
 yogigguide.com/index.php?option=com_jem&view=event&id=8659:the-legs-rock-a
 -cherry&Itemid=1094\n
DTSTART:20130708T200000
DTEND:20130708T200000
LOCATION:Heavy Sick\,Nishihara 2-27-4 B1\, Shibuya-ku\,Hatagaya
SUMMARY:THE LEGS\, ROCK-A-CHERRY
URL:https://www.tokyogigguide.com/index.php?option=com_jem&view=event&id=86
 59:the-legs-rock-a-cherry&Itemid=1094
END:VEVENT
END:VCALENDAR
