BEGIN:VCALENDAR
VERSION:2.0
PRODID:-//104.152.168.27//NONSGML kigkonsult.se iCalcreator 2.20//
CALSCALE:GREGORIAN
METHOD:PUBLISH
X-WR-TIMEZONE:Asia/Tokyo
BEGIN:VEVENT
UID:event8656@Tokyo Gig Guide
DTSTAMP:20260420T190906Z
CATEGORIES:Garage Rock
DESCRIPTION:GARAGEVILLE! 2DAYz: TEXACO LEATHERMAN\, STORMY DARLIN\, Thats a
  NO NO!\, THEEE BAT...\nCategory: Garage Rock\nLink: https://www.tokyogigg
 uide.com/index.php?option=com_jem&view=event&id=8656:garageville-2dayz&Ite
 mid=1094\n
DTSTART:20130706T180000
DTEND:20130706T180000
LOCATION:Heavy Sick\,Nishihara 2-27-4 B1\, Shibuya-ku\,Hatagaya
SUMMARY:GARAGEVILLE! 2DAYz: TEXACO LEATHERMAN\, STORMY DARLIN\, Thats a NO 
 NO!\, THEEE BAT...
URL:https://www.tokyogigguide.com/index.php?option=com_jem&view=event&id=86
 56:garageville-2dayz&Itemid=1094
END:VEVENT
END:VCALENDAR
