BEGIN:VCALENDAR
VERSION:2.0
PRODID:-//104.152.168.27//NONSGML kigkonsult.se iCalcreator 2.20//
CALSCALE:GREGORIAN
METHOD:PUBLISH
X-WR-TIMEZONE:Asia/Tokyo
BEGIN:VEVENT
UID:event80@Tokyo Gig Guide
DTSTAMP:20260426T000252Z
CATEGORIES:Disco-punk
DESCRIPTION:late of the pier\nCategory: Disco-punk\nLink: https://www.tokyo
 gigguide.com/index.php?option=com_jem&view=event&id=80:late-of-the-pier&It
 emid=1094\n
DTSTART:20090106T180000
DTEND:20090106T180000
LOCATION:O-East\,2F 2-14-9 Dogenzaka\, Shibuya-ku\,Shibuya
SUMMARY:late of the pier
URL:https://www.tokyogigguide.com/index.php?option=com_jem&view=event&id=80
 :late-of-the-pier&Itemid=1094
END:VEVENT
END:VCALENDAR
