BEGIN:VCALENDAR
VERSION:2.0
PRODID:-//104.152.168.27//NONSGML kigkonsult.se iCalcreator 2.20//
CALSCALE:GREGORIAN
METHOD:PUBLISH
X-WR-TIMEZONE:Asia/Tokyo
BEGIN:VEVENT
UID:event7648@Tokyo Gig Guide
DTSTAMP:20260425T000228Z
CATEGORIES:Improvised
DESCRIPTION:Marcos Fernandes / Hikaru Iwakawa Duo + Mizuki Misumi\nCategory
 : Improvised\nLink: https://www.tokyogigguide.com/index.php?option=com_jem
 &view=event&id=7648:marcos-fernandes--hikaru-iwakawa-duo--mizuki-misumi&It
 emid=1094\n
DTSTART:20121228T190000
DTEND:20121228T190000
LOCATION:Airegin\,5-60 Sumiyoshi-cho\, Naka-ku\, Yokohama\, Kanagawa\,Yokoh
 ama
SUMMARY:Marcos Fernandes / Hikaru Iwakawa Duo + Mizuki Misumi
URL:https://www.tokyogigguide.com/index.php?option=com_jem&view=event&id=76
 48:marcos-fernandes--hikaru-iwakawa-duo--mizuki-misumi&Itemid=1094
END:VEVENT
END:VCALENDAR
