BEGIN:VCALENDAR
VERSION:2.0
PRODID:-//104.152.168.27//NONSGML kigkonsult.se iCalcreator 2.20//
CALSCALE:GREGORIAN
METHOD:PUBLISH
X-WR-TIMEZONE:Asia/Tokyo
BEGIN:VEVENT
UID:event759@Tokyo Gig Guide
DTSTAMP:20260426T042847Z
CATEGORIES:All Mix
DESCRIPTION:Cypress Ueno & Robert Yoshino\, Urichipangoon\, SEXY-SYNTHESIZE
 R\, B-Club\nCategory: All Mix\nLink: https://www.tokyogigguide.com/index.p
 hp?option=com_jem&view=event&id=759:cypress-ueno-a-robert-yoshino-urichipa
 ngoon-sexy-synthesizer-b-club&Itemid=1094\n
DTSTART:20090326T183000
DTEND:20090326T183000
LOCATION:Club Quattro\,5F Parco Quattro\, 32-13 Udagawa-cho\,Shibuya
SUMMARY:Cypress Ueno & Robert Yoshino\, Urichipangoon\, SEXY-SYNTHESIZER\, 
 B-Club
URL:https://www.tokyogigguide.com/index.php?option=com_jem&view=event&id=75
 9:cypress-ueno-a-robert-yoshino-urichipangoon-sexy-synthesizer-b-club&Item
 id=1094
END:VEVENT
END:VCALENDAR
