BEGIN:VCALENDAR
VERSION:2.0
PRODID:-//104.152.168.27//NONSGML kigkonsult.se iCalcreator 2.20//
CALSCALE:GREGORIAN
METHOD:PUBLISH
X-WR-TIMEZONE:Asia/Tokyo
BEGIN:VEVENT
UID:event7488@Tokyo Gig Guide
DTSTAMP:20260419T143537Z
CATEGORIES:Punk
DESCRIPTION:Thee Oops\, BEAVER PATROL\, BO ROCK1\, FANGS\, d/i/s/c/o/s\nCat
 egory: Punk\nLink: https://www.tokyogigguide.com/index.php?option=com_jem&
 view=event&id=7488:the-oops-in-japan&Itemid=1094\n
DTSTART:20121122T190000
DTEND:20121122T190000
LOCATION:Heavy Sick\,Nishihara 2-27-4 B1\, Shibuya-ku\,Hatagaya
SUMMARY:Thee Oops\, BEAVER PATROL\, BO ROCK1\, FANGS\, d/i/s/c/o/s
URL:https://www.tokyogigguide.com/index.php?option=com_jem&view=event&id=74
 88:the-oops-in-japan&Itemid=1094
END:VEVENT
END:VCALENDAR
