BEGIN:VCALENDAR
VERSION:2.0
PRODID:-//104.152.168.27//NONSGML kigkonsult.se iCalcreator 2.20//
CALSCALE:GREGORIAN
METHOD:PUBLISH
X-WR-TIMEZONE:Asia/Tokyo
BEGIN:VEVENT
UID:event7208@Tokyo Gig Guide
DTSTAMP:20260419T230058Z
CATEGORIES:Garage Rock
DESCRIPTION:DJ Russell (The Phantom Surfers from USA)\, Rockin' Enocky\, Ro
 ckin' Jelly Bean\, more\nCategory: Garage Rock\nLink: https://www.tokyogig
 guide.com/index.php?option=com_jem&view=event&id=7208:dance-with-russell&I
 temid=1094\n
DTSTART:20121030T190000
DTEND:20121030T190000
LOCATION:Heavy Sick\,Nishihara 2-27-4 B1\, Shibuya-ku\,Hatagaya
SUMMARY:DJ Russell (The Phantom Surfers from USA)\, Rockin' Enocky\, Rockin
 ' Jelly Bean\, more
URL:https://www.tokyogigguide.com/index.php?option=com_jem&view=event&id=72
 08:dance-with-russell&Itemid=1094
END:VEVENT
END:VCALENDAR
