BEGIN:VCALENDAR
VERSION:2.0
PRODID:-//104.152.168.27//NONSGML kigkonsult.se iCalcreator 2.20//
CALSCALE:GREGORIAN
METHOD:PUBLISH
X-WR-TIMEZONE:Asia/Tokyo
BEGIN:VEVENT
UID:event7203@Tokyo Gig Guide
DTSTAMP:20260424T151142Z
CATEGORIES:Avant garde
DESCRIPTION:Imai kazuo guitar solo\nCategory: Avant garde\nLink: https://ww
 w.tokyogigguide.com/index.php?option=com_jem&view=event&id=7203:imai-kazuo
 -guitar-solo&Itemid=1094\n
DTSTART:20121002T193000
DTEND:20121002T193000
LOCATION:Airegin\,5-60 Sumiyoshi-cho\, Naka-ku\, Yokohama\, Kanagawa\,Yokoh
 ama
SUMMARY:Imai kazuo guitar solo
URL:https://www.tokyogigguide.com/index.php?option=com_jem&view=event&id=72
 03:imai-kazuo-guitar-solo&Itemid=1094
END:VEVENT
END:VCALENDAR
