BEGIN:VCALENDAR
VERSION:2.0
PRODID:-//104.152.168.27//NONSGML kigkonsult.se iCalcreator 2.20//
CALSCALE:GREGORIAN
METHOD:PUBLISH
X-WR-TIMEZONE:Asia/Tokyo
BEGIN:VEVENT
UID:event7101@Tokyo Gig Guide
DTSTAMP:20260419T160349Z
CATEGORIES:Punk
DESCRIPTION:METHOD OF STREET SURVIVERS #1: The BUBBLES\, COUNT THREE\, コード\
 , BLACK AND WHITE\, more\nCategory: Punk\nLink: https://www.tokyogigguide.
 com/index.php?option=com_jem&view=event&id=7101:method-ob-street-survivers
 &Itemid=1094\n
DTSTART:20120916T180000
DTEND:20120916T180000
LOCATION:Heavy Sick\,Nishihara 2-27-4 B1\, Shibuya-ku\,Hatagaya
SUMMARY:METHOD OF STREET SURVIVERS #1: The BUBBLES\, COUNT THREE\, コード\, BL
 ACK AND WHITE\, more
URL:https://www.tokyogigguide.com/index.php?option=com_jem&view=event&id=71
 01:method-ob-street-survivers&Itemid=1094
END:VEVENT
END:VCALENDAR
