BEGIN:VCALENDAR
VERSION:2.0
PRODID:-//104.152.168.27//NONSGML kigkonsult.se iCalcreator 2.20//
CALSCALE:GREGORIAN
METHOD:PUBLISH
X-WR-TIMEZONE:Asia/Tokyo
BEGIN:VEVENT
UID:event6846@Tokyo Gig Guide
DTSTAMP:20260425T223335Z
CATEGORIES:Alternative
DESCRIPTION:Grayson Gilmour (from NZ)\, thatta\, Icon Girl Pistols\, Kate S
 ikora\, Martin Leroux\nCategory: Alternative\nLink: https://www.tokyogiggu
 ide.com/index.php?option=com_jem&view=event&id=6846:grayson-gilmour-from-n
 z-thatta-icon-girl-pistols-kate-sikora-martin-leroux&Itemid=1094\n
DTSTART:20120720T190000
DTEND:20120720T190000
LOCATION:Ruby Room\,2F Kasumi Bldg\, Dogenzaka 2-25-17\, Shibuya\,Shibuya
SUMMARY:Grayson Gilmour (from NZ)\, thatta\, Icon Girl Pistols\, Kate Sikor
 a\, Martin Leroux
URL:https://www.tokyogigguide.com/index.php?option=com_jem&view=event&id=68
 46:grayson-gilmour-from-nz-thatta-icon-girl-pistols-kate-sikora-martin-ler
 oux&Itemid=1094
END:VEVENT
END:VCALENDAR
