BEGIN:VCALENDAR
VERSION:2.0
PRODID:-//104.152.168.27//NONSGML kigkonsult.se iCalcreator 2.20//
CALSCALE:GREGORIAN
METHOD:PUBLISH
X-WR-TIMEZONE:Asia/Tokyo
BEGIN:VEVENT
UID:event6774@Tokyo Gig Guide
DTSTAMP:20260421T014125Z
CATEGORIES:Alternative
DESCRIPTION:BAD NOISE: Hello Works\, The China Wife Motors\, Mix Market\, D
 Js\nCategory: Alternative\nLink: https://www.tokyogigguide.com/index.php?o
 ption=com_jem&view=event&id=6774:bad-noise-hello-works-the-china-wife-moto
 rs-mix-market-djs&Itemid=1094\n
DTSTART:20120630T193000
DTEND:20120630T193000
LOCATION:Ruby Room\,2F Kasumi Bldg\, Dogenzaka 2-25-17\, Shibuya\,Shibuya
SUMMARY:BAD NOISE: Hello Works\, The China Wife Motors\, Mix Market\, DJs
URL:https://www.tokyogigguide.com/index.php?option=com_jem&view=event&id=67
 74:bad-noise-hello-works-the-china-wife-motors-mix-market-djs&Itemid=1094
END:VEVENT
END:VCALENDAR
