BEGIN:VCALENDAR
VERSION:2.0
PRODID:-//104.152.168.27//NONSGML kigkonsult.se iCalcreator 2.20//
CALSCALE:GREGORIAN
METHOD:PUBLISH
X-WR-TIMEZONE:Asia/Tokyo
BEGIN:VEVENT
UID:event6759@Tokyo Gig Guide
DTSTAMP:20260422T231733Z
CATEGORIES:Indie-Rock
DESCRIPTION:Pub Rock Revival: Sunset Drive\, ABCD\, Club no.6\, Orgalounge\
 ,  plus DJ Timutaku\nCategory: Indie-Rock\nLink: https://www.tokyogigguide
 .com/index.php?option=com_jem&view=event&id=6759:pub-rock-revival-sunset-d
 rive-abcd-club-no6-orgalounge-plus-dj-timutaku&Itemid=1094\n
DTSTART:20120714T193000
DTEND:20120714T193000
LOCATION:Ruby Room\,2F Kasumi Bldg\, Dogenzaka 2-25-17\, Shibuya\,Shibuya
SUMMARY:Pub Rock Revival: Sunset Drive\, ABCD\, Club no.6\, Orgalounge\,  p
 lus DJ Timutaku
URL:https://www.tokyogigguide.com/index.php?option=com_jem&view=event&id=67
 59:pub-rock-revival-sunset-drive-abcd-club-no6-orgalounge-plus-dj-timutaku
 &Itemid=1094
END:VEVENT
END:VCALENDAR
