BEGIN:VCALENDAR
VERSION:2.0
PRODID:-//104.152.168.27//NONSGML kigkonsult.se iCalcreator 2.20//
CALSCALE:GREGORIAN
METHOD:PUBLISH
X-WR-TIMEZONE:Asia/Tokyo
BEGIN:VEVENT
UID:event6555@Tokyo Gig Guide
DTSTAMP:20260419T212311Z
CATEGORIES:Jazz
DESCRIPTION:Eple Trio (Norwegian contemporary jazz)\nCategory: Jazz\nLink: 
 https://www.tokyogigguide.com/index.php?option=com_jem&view=event&id=6555:
 eple-trio-norwegian-contemporary-jazz&Itemid=1094\n
DTSTART;VALUE=DATE:20120602
DTEND;VALUE=DATE:20120603
LOCATION:Airegin\,5-60 Sumiyoshi-cho\, Naka-ku\, Yokohama\, Kanagawa\,Yokoh
 ama
SUMMARY:Eple Trio (Norwegian contemporary jazz)
URL:https://www.tokyogigguide.com/index.php?option=com_jem&view=event&id=65
 55:eple-trio-norwegian-contemporary-jazz&Itemid=1094
END:VEVENT
END:VCALENDAR
