BEGIN:VCALENDAR
VERSION:2.0
PRODID:-//104.152.168.27//NONSGML kigkonsult.se iCalcreator 2.20//
CALSCALE:GREGORIAN
METHOD:PUBLISH
X-WR-TIMEZONE:Asia/Tokyo
BEGIN:VEVENT
UID:event6546@Tokyo Gig Guide
DTSTAMP:20260421T062812Z
CATEGORIES:Party
DESCRIPTION:FASHION CRISIS: Loser & Ribbons\, DJs Komlaski\, Soh (Hysteric 
 Picnic)\, James Hadfield\, Ian Martin\nCategory: Party\nLink: https://www.
 tokyogigguide.com/index.php?option=com_jem&view=event&id=6546:fashion-cris
 is-loser-a-ribbons-djs-komlaski-soh-hysteric-picnic-james-hadfield-ian-mar
 tin&Itemid=1094\n
DTSTART:20120504T200000
DTEND:20120504T200000
LOCATION:Knock (Koenji)\,Koenji Minami 3-48-6  B1F\,Koenji
SUMMARY:FASHION CRISIS: Loser & Ribbons\, DJs Komlaski\, Soh (Hysteric Picn
 ic)\, James Hadfield\, Ian Martin
URL:https://www.tokyogigguide.com/index.php?option=com_jem&view=event&id=65
 46:fashion-crisis-loser-a-ribbons-djs-komlaski-soh-hysteric-picnic-james-h
 adfield-ian-martin&Itemid=1094
END:VEVENT
END:VCALENDAR
