BEGIN:VCALENDAR
VERSION:2.0
PRODID:-//104.152.168.27//NONSGML kigkonsult.se iCalcreator 2.20//
CALSCALE:GREGORIAN
METHOD:PUBLISH
X-WR-TIMEZONE:Asia/Tokyo
BEGIN:VEVENT
UID:event6453@Tokyo Gig Guide
DTSTAMP:20260420T034635Z
CATEGORIES:Indie-Rock
DESCRIPTION:Pub Rock Revival: Sunset Drive\, Icon Girl Pistols\, Day and Bu
 ffalo\, Mana Hardcore\nCategory: Indie-Rock\nLink: https://www.tokyogiggui
 de.com/index.php?option=com_jem&view=event&id=6453:pub-rock-revival-sunset
 -drive-icon-girl-pistols-day-and-buffalo-plus-dj-timutaku&Itemid=1094\n
DTSTART:20120505T193000
DTEND:20120505T193000
LOCATION:Ruby Room\,2F Kasumi Bldg\, Dogenzaka 2-25-17\, Shibuya\,Shibuya
SUMMARY:Pub Rock Revival: Sunset Drive\, Icon Girl Pistols\, Day and Buffal
 o\, Mana Hardcore
URL:https://www.tokyogigguide.com/index.php?option=com_jem&view=event&id=64
 53:pub-rock-revival-sunset-drive-icon-girl-pistols-day-and-buffalo-plus-dj
 -timutaku&Itemid=1094
END:VEVENT
END:VCALENDAR
