BEGIN:VCALENDAR
VERSION:2.0
PRODID:-//104.152.168.27//NONSGML kigkonsult.se iCalcreator 2.20//
CALSCALE:GREGORIAN
METHOD:PUBLISH
X-WR-TIMEZONE:Asia/Tokyo
BEGIN:VEVENT
UID:event6369@Tokyo Gig Guide
DTSTAMP:20260424T091516Z
CATEGORIES:Indie-Rock
DESCRIPTION:Pub Rock Revival: Sunset Drive\, The Watanabes\, Kat McDowell\,
  AKOGARE\, DJ Timutaku\nCategory: Indie-Rock\nLink: https://www.tokyogiggu
 ide.com/index.php?option=com_jem&view=event&id=6369:pub-rock-revival-live-
 rock-gig&Itemid=1094\n
DTSTART:20120414T193000
DTEND:20120414T193000
LOCATION:Ruby Room\,2F Kasumi Bldg\, Dogenzaka 2-25-17\, Shibuya\,Shibuya
SUMMARY:Pub Rock Revival: Sunset Drive\, The Watanabes\, Kat McDowell\, AKO
 GARE\, DJ Timutaku
URL:https://www.tokyogigguide.com/index.php?option=com_jem&view=event&id=63
 69:pub-rock-revival-live-rock-gig&Itemid=1094
END:VEVENT
END:VCALENDAR
