BEGIN:VCALENDAR
VERSION:2.0
PRODID:-//104.152.168.27//NONSGML kigkonsult.se iCalcreator 2.20//
CALSCALE:GREGORIAN
METHOD:PUBLISH
X-WR-TIMEZONE:Asia/Tokyo
BEGIN:VEVENT
UID:event6351@Tokyo Gig Guide
DTSTAMP:20260420T040629Z
CATEGORIES:Improvised
DESCRIPTION:Gianni Gebbia - Satoko Fuji - Pearl Alexander- Takashi Itani\nC
 ategory: Improvised\nLink: https://www.tokyogigguide.com/index.php?option=
 com_jem&view=event&id=6351:gianni-gebbia-satoko-fuji-pearl-alexander-&Item
 id=1094\n
DTSTART:20120407T190000
DTEND:20120407T190000
LOCATION:Airegin\,5-60 Sumiyoshi-cho\, Naka-ku\, Yokohama\, Kanagawa\,Yokoh
 ama
SUMMARY:Gianni Gebbia - Satoko Fuji - Pearl Alexander- Takashi Itani
URL:https://www.tokyogigguide.com/index.php?option=com_jem&view=event&id=63
 51:gianni-gebbia-satoko-fuji-pearl-alexander-&Itemid=1094
END:VEVENT
END:VCALENDAR
