BEGIN:VCALENDAR
VERSION:2.0
PRODID:-//104.152.168.27//NONSGML kigkonsult.se iCalcreator 2.20//
CALSCALE:GREGORIAN
METHOD:PUBLISH
X-WR-TIMEZONE:Asia/Tokyo
BEGIN:VEVENT
UID:event6100@Tokyo Gig Guide
DTSTAMP:20260419T124959Z
CATEGORIES:Garage Rock
DESCRIPTION:ED WOODS\, TAKA-ROCK & ONE MAN HEARTBREAKERS\nCategory: Garage 
 Rock\nLink: https://www.tokyogigguide.com/index.php?option=com_jem&view=ev
 ent&id=6100:ed-woods-taka-rock-a-one-man-heartbreakers&Itemid=1094\n
DTSTART:20120227T200000
DTEND:20120227T200000
LOCATION:Heavy Sick\,Nishihara 2-27-4 B1\, Shibuya-ku\,Hatagaya
SUMMARY:ED WOODS\, TAKA-ROCK & ONE MAN HEARTBREAKERS
URL:https://www.tokyogigguide.com/index.php?option=com_jem&view=event&id=61
 00:ed-woods-taka-rock-a-one-man-heartbreakers&Itemid=1094
END:VEVENT
END:VCALENDAR
