BEGIN:VCALENDAR
VERSION:2.0
PRODID:-//104.152.168.27//NONSGML kigkonsult.se iCalcreator 2.20//
CALSCALE:GREGORIAN
METHOD:PUBLISH
X-WR-TIMEZONE:Asia/Tokyo
BEGIN:VEVENT
UID:event6024@Tokyo Gig Guide
DTSTAMP:20260420T005007Z
CATEGORIES:World
DESCRIPTION:WORMHOLE + guests\nCategory: World\nLink: https://www.tokyogigg
 uide.com/index.php?option=com_jem&view=event&id=6024:wormhole--guests&Item
 id=1094\n
DTSTART:20120209T190000
DTEND:20120209T190000
LOCATION:Airegin\,5-60 Sumiyoshi-cho\, Naka-ku\, Yokohama\, Kanagawa\,Yokoh
 ama
SUMMARY:WORMHOLE + guests
URL:https://www.tokyogigguide.com/index.php?option=com_jem&view=event&id=60
 24:wormhole--guests&Itemid=1094
END:VEVENT
END:VCALENDAR
