BEGIN:VCALENDAR
VERSION:2.0
PRODID:-//104.152.168.27//NONSGML kigkonsult.se iCalcreator 2.20//
CALSCALE:GREGORIAN
METHOD:PUBLISH
X-WR-TIMEZONE:Asia/Tokyo
BEGIN:VEVENT
UID:event5897@Tokyo Gig Guide
DTSTAMP:20260421T063506Z
CATEGORIES:Alternative
DESCRIPTION:Bhava\, Loyettes\, Moskt\, Brad Bidway\nCategory: Alternative\n
 Link: https://www.tokyogigguide.com/index.php?option=com_jem&view=event&id
 =5897:bhava-loyettes-moskt-brad-bidway-ruby-room&Itemid=1094\n
DTSTART:20120121T190000
DTEND:20120121T190000
LOCATION:Ruby Room\,2F Kasumi Bldg\, Dogenzaka 2-25-17\, Shibuya\,Shibuya
SUMMARY:Bhava\, Loyettes\, Moskt\, Brad Bidway
URL:https://www.tokyogigguide.com/index.php?option=com_jem&view=event&id=58
 97:bhava-loyettes-moskt-brad-bidway-ruby-room&Itemid=1094
END:VEVENT
END:VCALENDAR
