BEGIN:VCALENDAR
VERSION:2.0
PRODID:-//104.152.168.27//NONSGML kigkonsult.se iCalcreator 2.20//
CALSCALE:GREGORIAN
METHOD:PUBLISH
X-WR-TIMEZONE:Asia/Tokyo
BEGIN:VEVENT
UID:event5886@Tokyo Gig Guide
DTSTAMP:20260421T081223Z
CATEGORIES:Improvised
DESCRIPTION:Clocked Out Duo + Yumiko Tanaksa + Marcos Fernandes\nCategory: 
 Improvised\nLink: https://www.tokyogigguide.com/index.php?option=com_jem&v
 iew=event&id=5886:clocked-out-duo--yumiko-tanaksa--marcos-fernandes&Itemid
 =1094\n
DTSTART:20120112T190000
DTEND:20120112T190000
LOCATION:Airegin\,5-60 Sumiyoshi-cho\, Naka-ku\, Yokohama\, Kanagawa\,Yokoh
 ama
SUMMARY:Clocked Out Duo + Yumiko Tanaksa + Marcos Fernandes
URL:https://www.tokyogigguide.com/index.php?option=com_jem&view=event&id=58
 86:clocked-out-duo--yumiko-tanaksa--marcos-fernandes&Itemid=1094
END:VEVENT
END:VCALENDAR
