BEGIN:VCALENDAR
VERSION:2.0
PRODID:-//104.152.168.27//NONSGML kigkonsult.se iCalcreator 2.20//
CALSCALE:GREGORIAN
METHOD:PUBLISH
X-WR-TIMEZONE:Asia/Tokyo
BEGIN:VEVENT
UID:event5837@Tokyo Gig Guide
DTSTAMP:20260426T021847Z
CATEGORIES:Indie-Rock
DESCRIPTION:Icon Girl Pistols\, Sunset Drive\, The Planets\nCategory: Indie
 -Rock\nLink: https://www.tokyogigguide.com/index.php?option=com_jem&view=e
 vent&id=5837:icon-girl-pistols-sunset-drive-the-planets&Itemid=1094\n
DTSTART:20111223T193000
DTEND:20111223T193000
LOCATION:NOB\,Maruyamacho 1-3 BF\, Shibuya-ku\,Shibuya
SUMMARY:Icon Girl Pistols\, Sunset Drive\, The Planets
URL:https://www.tokyogigguide.com/index.php?option=com_jem&view=event&id=58
 37:icon-girl-pistols-sunset-drive-the-planets&Itemid=1094
END:VEVENT
END:VCALENDAR
