BEGIN:VCALENDAR
VERSION:2.0
PRODID:-//104.152.168.27//NONSGML kigkonsult.se iCalcreator 2.20//
CALSCALE:GREGORIAN
METHOD:PUBLISH
X-WR-TIMEZONE:Asia/Tokyo
BEGIN:VEVENT
UID:event5627@Tokyo Gig Guide
DTSTAMP:20260420T153926Z
CATEGORIES:Improvised
DESCRIPTION:Wormhole\nCategory: Improvised\nLink: https://www.tokyogigguide
 .com/index.php?option=com_jem&view=event&id=5627:wormhole&Itemid=1094\n
DTSTART:20111210T190000
DTEND:20111210T190000
LOCATION:Airegin\,5-60 Sumiyoshi-cho\, Naka-ku\, Yokohama\, Kanagawa\,Yokoh
 ama
SUMMARY:Wormhole
URL:https://www.tokyogigguide.com/index.php?option=com_jem&view=event&id=56
 27:wormhole&Itemid=1094
END:VEVENT
END:VCALENDAR
