BEGIN:VCALENDAR
VERSION:2.0
PRODID:-//104.152.168.27//NONSGML kigkonsult.se iCalcreator 2.20//
CALSCALE:GREGORIAN
METHOD:PUBLISH
X-WR-TIMEZONE:Asia/Tokyo
BEGIN:VEVENT
UID:event5518@Tokyo Gig Guide
DTSTAMP:20260421T150102Z
CATEGORIES:Alternative
DESCRIPTION:WE SOLD OUR SOUL FOR HEAVY ROCK vol.1: Breakfast of Champions\,
  Volume\, Sithter\, disburden\, URiTA\nCategory: Alternative\nLink: https:
 //www.tokyogigguide.com/index.php?option=com_jem&view=event&id=5518:we-sol
 d-our-soul-for-heavy-rock&Itemid=1094\n
DTSTART:20111023T180000
DTEND:20111023T180000
LOCATION:Zher The Zoo\,Yoyogi Park Bldg B1F\, Yoyogi 1-30-1\,Yoyogi
SUMMARY:WE SOLD OUR SOUL FOR HEAVY ROCK vol.1: Breakfast of Champions\, Vol
 ume\, Sithter\, disburden\, URiTA
URL:https://www.tokyogigguide.com/index.php?option=com_jem&view=event&id=55
 18:we-sold-our-soul-for-heavy-rock&Itemid=1094
END:VEVENT
END:VCALENDAR
