BEGIN:VCALENDAR
VERSION:2.0
PRODID:-//104.152.168.27//NONSGML kigkonsult.se iCalcreator 2.20//
CALSCALE:GREGORIAN
METHOD:PUBLISH
X-WR-TIMEZONE:Asia/Tokyo
BEGIN:VEVENT
UID:event5427@Tokyo Gig Guide
DTSTAMP:20260423T125622Z
CATEGORIES:Avant-pop
DESCRIPTION:Tokyo Gig Guide presents FARM PARTY #7: Jebiotto!\, Fancy Numnu
 m\, Living Astro\, Abikyokan\, more\nCategory: Avant-pop\nLink: https://ww
 w.tokyogigguide.com/index.php?option=com_jem&view=event&id=5427:tokyo-gig-
 guide-presents-farm-party-7&Itemid=1094\n
DTSTART:20111105T190000
DTEND:20111105T190000
SUMMARY:Tokyo Gig Guide presents FARM PARTY #7: Jebiotto!\, Fancy Numnum\, 
 Living Astro\, Abikyokan\, more
URL:https://www.tokyogigguide.com/index.php?option=com_jem&view=event&id=54
 27:tokyo-gig-guide-presents-farm-party-7&Itemid=1094
END:VEVENT
END:VCALENDAR
