BEGIN:VCALENDAR
VERSION:2.0
PRODID:-//104.152.168.27//NONSGML kigkonsult.se iCalcreator 2.20//
CALSCALE:GREGORIAN
METHOD:PUBLISH
X-WR-TIMEZONE:Asia/Tokyo
BEGIN:VEVENT
UID:event5397@Tokyo Gig Guide
DTSTAMP:20260420T142218Z
CATEGORIES:Indie-Rock
DESCRIPTION:Pub Rock Revival - Sunset Drive\, Link\, Decortica\, Nature Air
 liner plus DJs.\nCategory: Indie-Rock\nLink: https://www.tokyogigguide.com
 /index.php?option=com_jem&view=event&id=5397:pub-rock-revival-sunset-drive
 -link-decortica-nature-airliner-plus-djs&Itemid=1094\n
DTSTART:20111008T193000
DTEND:20111008T193000
LOCATION:Ruby Room\,2F Kasumi Bldg\, Dogenzaka 2-25-17\, Shibuya\,Shibuya
SUMMARY:Pub Rock Revival - Sunset Drive\, Link\, Decortica\, Nature Airline
 r plus DJs.
URL:https://www.tokyogigguide.com/index.php?option=com_jem&view=event&id=53
 97:pub-rock-revival-sunset-drive-link-decortica-nature-airliner-plus-djs&I
 temid=1094
END:VEVENT
END:VCALENDAR
