BEGIN:VCALENDAR
VERSION:2.0
PRODID:-//104.152.168.27//NONSGML kigkonsult.se iCalcreator 2.20//
CALSCALE:GREGORIAN
METHOD:PUBLISH
X-WR-TIMEZONE:Asia/Tokyo
BEGIN:VEVENT
UID:event5228@Tokyo Gig Guide
DTSTAMP:20260420T014513Z
CATEGORIES:Avant garde
DESCRIPTION:eEYO with Shimizu Kazuto + Sakamoto Hiromichi + Yamamoto Tatsuh
 isa\, 弧回\nCategory: Avant garde\nLink: https://www.tokyogigguide.com/index
 .php?option=com_jem&view=event&id=5228:eeyo-with-shimizu-kazuto--sakamoto-
 hiromichi--yamamoto-tatsuhisa-&Itemid=1094\n
DTSTART:20110915T190000
DTEND:20110915T190000
LOCATION:Three\,Kitazawa 5-18-1 B1F\, Setagaya-ku\, Tokyo\,Shimokitazawa
SUMMARY:eEYO with Shimizu Kazuto + Sakamoto Hiromichi + Yamamoto Tatsuhisa\
 , 弧回
URL:https://www.tokyogigguide.com/index.php?option=com_jem&view=event&id=52
 28:eeyo-with-shimizu-kazuto--sakamoto-hiromichi--yamamoto-tatsuhisa-&Itemi
 d=1094
END:VEVENT
END:VCALENDAR
