BEGIN:VCALENDAR
VERSION:2.0
PRODID:-//104.152.168.27//NONSGML kigkonsult.se iCalcreator 2.20//
CALSCALE:GREGORIAN
METHOD:PUBLISH
X-WR-TIMEZONE:Asia/Tokyo
BEGIN:VEVENT
UID:event5224@Tokyo Gig Guide
DTSTAMP:20260420T042049Z
CATEGORIES:Noise Rock
DESCRIPTION:Limited Express (has gone?)\,  CONVEX LEVEL\,  MUSIC FROM THE M
 ARS\nCategory: Noise Rock\nLink: https://www.tokyogigguide.com/index.php?o
 ption=com_jem&view=event&id=5224:limited-express-has-gone-convex-level-mus
 ic-from-the-mars&Itemid=1094\n
DTSTART:20110904T183000
DTEND:20110904T183000
LOCATION:Three\,Kitazawa 5-18-1 B1F\, Setagaya-ku\, Tokyo\,Shimokitazawa
SUMMARY:Limited Express (has gone?)\,  CONVEX LEVEL\,  MUSIC FROM THE MARS
URL:https://www.tokyogigguide.com/index.php?option=com_jem&view=event&id=52
 24:limited-express-has-gone-convex-level-music-from-the-mars&Itemid=1094
END:VEVENT
END:VCALENDAR
