BEGIN:VCALENDAR
VERSION:2.0
PRODID:-//104.152.168.27//NONSGML kigkonsult.se iCalcreator 2.20//
CALSCALE:GREGORIAN
METHOD:PUBLISH
X-WR-TIMEZONE:Asia/Tokyo
BEGIN:VEVENT
UID:event5191@Tokyo Gig Guide
DTSTAMP:20260422T232458Z
CATEGORIES:Folk
DESCRIPTION:Friends of Friends of Friends -- Folk Night at the Ruby Room\nC
 ategory: Folk\nLink: https://www.tokyogigguide.com/index.php?option=com_je
 m&view=event&id=5191:friends-of-friends-of-friends-folk-night-at-the-ruby-
 room&Itemid=1094\n
DTSTART:20110910T193000
DTEND:20110910T193000
LOCATION:Ruby Room\,2F Kasumi Bldg\, Dogenzaka 2-25-17\, Shibuya\,Shibuya
SUMMARY:Friends of Friends of Friends -- Folk Night at the Ruby Room
URL:https://www.tokyogigguide.com/index.php?option=com_jem&view=event&id=51
 91:friends-of-friends-of-friends-folk-night-at-the-ruby-room&Itemid=1094
END:VEVENT
END:VCALENDAR
