BEGIN:VCALENDAR
VERSION:2.0
PRODID:-//104.152.168.27//NONSGML kigkonsult.se iCalcreator 2.20//
CALSCALE:GREGORIAN
METHOD:PUBLISH
X-WR-TIMEZONE:Asia/Tokyo
BEGIN:VEVENT
UID:event5098@Tokyo Gig Guide
DTSTAMP:20260423T091221Z
CATEGORIES:Other
DESCRIPTION:8.15 We dont forget Fukushima: The GoodLuck Boys\, Suishou No F
 une\, more\nCategory: Other\nLink: https://www.tokyogigguide.com/index.php
 ?option=com_jem&view=event&id=5098:815-we-dont-forget-fukushima&Itemid=109
 4\n
DTSTART:20110815T173000
DTEND:20110815T173000
LOCATION:Silver Elephant\,2-10-6 B1\, Kichijoji Honmachi\,Kichijoji
SUMMARY:8.15 We dont forget Fukushima: The GoodLuck Boys\, Suishou No Fune\
 , more
URL:https://www.tokyogigguide.com/index.php?option=com_jem&view=event&id=50
 98:815-we-dont-forget-fukushima&Itemid=1094
END:VEVENT
END:VCALENDAR
