BEGIN:VCALENDAR
VERSION:2.0
PRODID:-//104.152.168.27//NONSGML kigkonsult.se iCalcreator 2.20//
CALSCALE:GREGORIAN
METHOD:PUBLISH
X-WR-TIMEZONE:Asia/Tokyo
BEGIN:VEVENT
UID:event5081@Tokyo Gig Guide
DTSTAMP:20260424T183445Z
CATEGORIES:New Wave
DESCRIPTION:POLYSICS\, Kaisoku Tokyo\nCategory: New Wave\nLink: https://www
 .tokyogigguide.com/index.php?option=com_jem&view=event&id=5081:polysics-ka
 isoku-tokyo&Itemid=1094\n
DTSTART:20110930T183000
DTEND:20110930T183000
LOCATION:Zher The Zoo\,Yoyogi Park Bldg B1F\, Yoyogi 1-30-1\,Yoyogi
SUMMARY:POLYSICS\, Kaisoku Tokyo
URL:https://www.tokyogigguide.com/index.php?option=com_jem&view=event&id=50
 81:polysics-kaisoku-tokyo&Itemid=1094
END:VEVENT
END:VCALENDAR
