BEGIN:VCALENDAR
VERSION:2.0
PRODID:-//104.152.168.27//NONSGML kigkonsult.se iCalcreator 2.20//
CALSCALE:GREGORIAN
METHOD:PUBLISH
X-WR-TIMEZONE:Asia/Tokyo
BEGIN:VEVENT
UID:event4914@Tokyo Gig Guide
DTSTAMP:20260425T201030Z
CATEGORIES:WTF?
DESCRIPTION:HYBRID (Takumi Ito\, Minoru Yonemoto\, Dai Nakamura\, Marcos Fe
 rnandes)\nCategory: WTF?\nLink: https://www.tokyogigguide.com/index.php?op
 tion=com_jem&view=event&id=4914:hybrid&Itemid=1094\n
DTSTART:20110713T190000
DTEND:20110713T190000
LOCATION:Airegin\,5-60 Sumiyoshi-cho\, Naka-ku\, Yokohama\, Kanagawa\,Yokoh
 ama
SUMMARY:HYBRID (Takumi Ito\, Minoru Yonemoto\, Dai Nakamura\, Marcos Fernan
 des)
URL:https://www.tokyogigguide.com/index.php?option=com_jem&view=event&id=49
 14:hybrid&Itemid=1094
END:VEVENT
END:VCALENDAR
