BEGIN:VCALENDAR
VERSION:2.0
PRODID:-//104.152.168.27//NONSGML kigkonsult.se iCalcreator 2.20//
CALSCALE:GREGORIAN
METHOD:PUBLISH
X-WR-TIMEZONE:Asia/Tokyo
BEGIN:VEVENT
UID:event4892@Tokyo Gig Guide
DTSTAMP:20260420T181909Z
CATEGORIES:Indie-Rock
DESCRIPTION:the cabs\, the mornings\, Shirika\, Haisuinonasa\nCategory: Ind
 ie-Rock\nLink: https://www.tokyogigguide.com/index.php?option=com_jem&view
 =event&id=4892:the-cabs-the-mornings-shirika-haisuinonasa&Itemid=1094\n
DTSTART:20110715T183000
DTEND:20110715T183000
LOCATION:Shelter\,Senda Building\, B1 2-6-10\, Shimokitazawa\,Shimokitazawa
SUMMARY:the cabs\, the mornings\, Shirika\, Haisuinonasa
URL:https://www.tokyogigguide.com/index.php?option=com_jem&view=event&id=48
 92:the-cabs-the-mornings-shirika-haisuinonasa&Itemid=1094
END:VEVENT
END:VCALENDAR
