BEGIN:VCALENDAR
VERSION:2.0
PRODID:-//104.152.168.27//NONSGML kigkonsult.se iCalcreator 2.20//
CALSCALE:GREGORIAN
METHOD:PUBLISH
X-WR-TIMEZONE:Asia/Tokyo
BEGIN:VEVENT
UID:event488@Tokyo Gig Guide
DTSTAMP:20260422T090320Z
CATEGORIES:Indie-Rock
DESCRIPTION:The Shakes\, ok city ok\, Masahiko Shinobu\nCategory: Indie-Roc
 k\nLink: https://www.tokyogigguide.com/index.php?option=com_jem&view=event
 &id=488:the-shakes-ok-city-ok-masahiko-shinobu&Itemid=1094\n
DTSTART:20081213T183000
DTEND:20081213T183000
LOCATION:Zher The Zoo\,Yoyogi Park Bldg B1F\, Yoyogi 1-30-1\,Yoyogi
SUMMARY:The Shakes\, ok city ok\, Masahiko Shinobu
URL:https://www.tokyogigguide.com/index.php?option=com_jem&view=event&id=48
 8:the-shakes-ok-city-ok-masahiko-shinobu&Itemid=1094
END:VEVENT
END:VCALENDAR
