BEGIN:VCALENDAR
VERSION:2.0
PRODID:-//104.152.168.27//NONSGML kigkonsult.se iCalcreator 2.20//
CALSCALE:GREGORIAN
METHOD:PUBLISH
X-WR-TIMEZONE:Asia/Tokyo
BEGIN:VEVENT
UID:event4658@Tokyo Gig Guide
DTSTAMP:20260420T211920Z
CATEGORIES:Garage Rock
DESCRIPTION:MINNESOTA VOODOO MEN\, THE MADAME CATS\nCategory: Garage Rock\n
 Link: https://www.tokyogigguide.com/index.php?option=com_jem&view=event&id
 =4658:minnesota-voodoo-men-the-madame-cats&Itemid=1094\n
DTSTART:20110530T200000
DTEND:20110530T200000
LOCATION:Heavy Sick\,Nishihara 2-27-4 B1\, Shibuya-ku\,Hatagaya
SUMMARY:MINNESOTA VOODOO MEN\, THE MADAME CATS
URL:https://www.tokyogigguide.com/index.php?option=com_jem&view=event&id=46
 58:minnesota-voodoo-men-the-madame-cats&Itemid=1094
END:VEVENT
END:VCALENDAR
